BEGIN:VCALENDAR
CALSCALE:GREGORIAN
PRODID:iCalendar-Ruby
VERSION:2.0
BEGIN:VEVENT
DTSTAMP:20260414T110900
DTSTART:20260524T190000
CLASS:PUBLIC
LOCATION:Akademie der Künste\n Hanseatenweg 10\n 10557 Berlin
SEQUENCE:0
SUMMARY:Lecture Performance | An Evening with Anne Carson
UID:157700704@/www.temporal-communities.de
URL:https://www.temporal-communities.de/events/2026/reading-poesiefestival-
 carson.html
END:VEVENT
END:VCALENDAR
